BEGIN:VCALENDAR
VERSION:2.0
PRODID:-//Chiropractic Economics - ECPv4.6.21//NONSGML v1.0//EN
CALSCALE:GREGORIAN
METHOD:PUBLISH
X-WR-CALNAME:Chiropractic Economics
X-ORIGINAL-URL:https://www.chiroeco.com/events
X-WR-CALDESC:Events for Chiropractic Economics
BEGIN:VEVENT
DTSTART;VALUE=DATE:20240627
DTEND;VALUE=DATE:20240630
DTSTAMP:20260421T121222
CREATED:20231116T071740Z
LAST-MODIFIED:20260209T030320Z
UID:121457-1719446400-1719705599@www.chiroeco.com
SUMMARY:American Black Chiropractic Association National Convention 2024
DESCRIPTION:American Black Chiropractic Association\nNational Convention \nJune 27-29\, 2024 @ University of Western States in Portland\, Oregon \n
URL:https://www.chiroeco.com/events/event/abca-national-convention/
LOCATION:Portland\, united States
CATEGORIES:In-Person Event,Previous Years
ATTACH;FMTTYPE=image/png:https://www.chiroeco.com/events/wp-content/uploads/2023/11/ABCA_conference_2024.png
ORGANIZER;CN="American%20Black%20Chiropractic%20Association":MAILTO:info@abcachiro.com
END:VEVENT
END:VCALENDAR