BEGIN:VCALENDAR
VERSION:2.0
PRODID:-//Chiropractic Economics - ECPv4.6.21//NONSGML v1.0//EN
CALSCALE:GREGORIAN
METHOD:PUBLISH
X-WR-CALNAME:Chiropractic Economics
X-ORIGINAL-URL:https://www.chiroeco.com/events
X-WR-CALDESC:Events for Chiropractic Economics
BEGIN:VEVENT
DTSTART;VALUE=DATE:20240622
DTEND;VALUE=DATE:20240624
DTSTAMP:20260421T122019
CREATED:20231010T203426Z
LAST-MODIFIED:20260209T030320Z
UID:121401-1719014400-1719187199@www.chiroeco.com
SUMMARY:FAKTR Rehab System in Minneapolis\, MN
DESCRIPTION:Join us for this 16hr in-person live workshop. Register now.\n\nMinneapolis\, MN\nJun 22nd 8:30 AM – 23rd Jun 3:30 PM CDT\n\n
URL:https://www.chiroeco.com/events/event/faktr-rehab-system-in-minneapolis-mn-3/
CATEGORIES:In-Person Event,Previous Years
END:VEVENT
BEGIN:VEVENT
DTSTART;TZID=America/New_York:20240622T080000
DTEND;TZID=America/New_York:20240623T120000
DTSTAMP:20260421T122019
CREATED:20220224T154800Z
LAST-MODIFIED:20260209T030320Z
UID:120834-1719043200-1719144000@www.chiroeco.com
SUMMARY:Cox® Technic Cervical Spine Course - Indiana
DESCRIPTION:This course covers the biomechanical and clinical research outcomes of Cox® Technic protocols for Cervical Spine and Upper Thoracic conditions: \n\n\nThe intradiscal pressure decreases\, the proper forces to be applied and the correct application of protocols are revealed.\nAcademic discussion of cervical spine anatomy and conditions and protocols are interspersed with hands-on application of the protocols in small groups with instructors at each training on The Cox8® Table.\nThe evidence-based development of the protocols is presented including single clinical case reports\, multi-case retrospective clinical case collections\, laboratory discoveries of biomechanical effects and forces.\nThis is all part of the certification course in the evidence-based protocols.\nThis Cervical Spine Certification in Cox® Technic protocols will build a foundation of physicians who approach cervical spine pain and then treat it in similar fashion just as the lumbar spine certification has.\n\nPart III – Cervical Spine Certification in Cox® Technic Protocols \nThis course covers the biomechanical and clinical research outcomes of  Cox® Technic protocols for cervical spine conditions – disc degeneration\, disc herniation\, cervical radiculopathy\, stenosis\, klippel feil\, etc.\, along with discussions of conditions like cervical myelopathy. The effects of the Cox® Technic System of Spinal Pain Management for cervical spine are researched and documented\, ready for course participants to mimic and grow proficient.  The intradiscal pressure decreases\, the proper forces to be applied and the correct application of protocols are revealed. Academic discussion of cervical spine anatomy and conditions and protocols are interspersed with hands-on application of the protocols in small groups with instructors at Haven Medical’s Cox®8 Table. The Cox®8 Force Table will share objective feedback in real-time the forces being applied. \nCox® Technic for cervical spine\, though “new” to some\, has been developing in its research support for many years. The evidence-based development of the protocols is presented including single clinical case reports\, multi-case retrospective clinical case collections\, laboratory discoveries of biomechanical effects and forces. This is all part of the certification course in the evidence-based protocols. \nThis Cervical Spine Certification in Cox® Technic protocols will build a foundation of physicians who approach cervical spine pain and then treat it in similar fashion just as the lumbar spine certification has. \nExtra Hands-on Practice  \nInstructor(s) are available for more individualized practice of the protocols before and after class. \nTuition \n14 hours\, $375-750\, DC student and DC fees available \n260-637-6609 \ninfo@coxtechnic.com \n\n
URL:https://www.chiroeco.com/events/event/cox-technic-cervical-spine-course-indiana/
LOCATION:120 W Jefferson Blvd.\, Fort Wayne\, IN\, 46802\, United States
CATEGORIES:In-Person Event,Previous Years
ORGANIZER;CN="Cox%20Seminar%20by%20F%2FD%20Enterprise%20LLC":MAILTO:info@coxtechnic.com
END:VEVENT
END:VCALENDAR