BEGIN:VCALENDAR
VERSION:2.0
PRODID:-//Chiropractic Economics - ECPv4.6.21//NONSGML v1.0//EN
CALSCALE:GREGORIAN
METHOD:PUBLISH
X-WR-CALNAME:Chiropractic Economics
X-ORIGINAL-URL:https://www.chiroeco.com/events
X-WR-CALDESC:Events for Chiropractic Economics
BEGIN:VEVENT
DTSTART;TZID=America/Chicago:20240620T190000
DTEND;TZID=America/Chicago:20240620T210000
DTSTAMP:20260421T122019
CREATED:20240411T111307Z
LAST-MODIFIED:20260209T030320Z
UID:121666-1718910000-1718917200@www.chiroeco.com
SUMMARY:Online Chiropractic CE: Documentation & Risk Management 301 (Approved For Texas Required Hours)
DESCRIPTION: \n\nOnline Course Format:  Live Webinar\nCourse Tuition:   $59.00\nCredit Hours ( CE ):  2\nContributor:  Monte Horne\, DC\nDate & Time : \n\nStart:  June 20\, 2024  7:00 pm\nEnd:  June 20\, 2024  9:00 pm\n\n* Central Time Zone\n\nCCEDseminars proudly presents an unparalleled online chiropractic CE course: “Documentation & Risk Management 301.” Scheduled for June 20\, 2024\, from 7:00 PM to 9:00 PM CT\, this course is meticulously designed to empower chiropractors with the latest in documentation and risk management techniques. Approved for Texas Required Hours\, and led by the distinguished Dr. Monte Horne\, this 2-hour online chiropractic ce course is a must-attend for professionals eager to refine their skills and elevate their practice.\n\nLearning Goals:\nBy completing this online chiropractic CE webinar\, you will be equipped to: \n\nImplement cutting-edge documentation practices\, improving patient record accuracy and utility.\nUnderstand and apply sophisticated risk management strategies\, minimizing potential liabilities.\nEnhance patient care through evidence-based practices and informed decision-making.\nFoster a culture of safety and trust within your chiropractic practice.\n\n\n\n
URL:https://www.chiroeco.com/events/event/online-chiropractic-ce-documentation-risk-management-301-approved-for-texas-required-hours/
CATEGORIES:Online Event/Webinar,Previous Years
END:VEVENT
END:VCALENDAR