BEGIN:VCALENDAR
VERSION:2.0
PRODID:-//Chiropractic Economics - ECPv4.6.21//NONSGML v1.0//EN
CALSCALE:GREGORIAN
METHOD:PUBLISH
X-WR-CALNAME:Chiropractic Economics
X-ORIGINAL-URL:https://www.chiroeco.com/events
X-WR-CALDESC:Events for Chiropractic Economics
BEGIN:VEVENT
DTSTART;TZID=America/Chicago:20240523T190000
DTEND;TZID=America/Chicago:20240523T210000
DTSTAMP:20260421T135436
CREATED:20240228T201421Z
LAST-MODIFIED:20260209T030352Z
UID:121563-1716490800-1716498000@www.chiroeco.com
SUMMARY:Documentation & Risk Management 301 | Webinar
DESCRIPTION: \n\nOnline Course Format:  Live Webinar\nCourse Tuition:   $59.00\nCredit Hours ( CE ):  2\nContributor:  Monte Horne\, DC\nDate & Time : \n\nStart:  May 23\, 2024  7:00 pm\nEnd:  May 23\, 2024  7:00 pm\n\n* Central Time Zone\n\n\nCourse Description:\nThis online chiropractic CE course\, approved for Texas Required Hours\, focuses on two essential aspects: Documentation (1 hour) and Risk Management (1 hour). Dr. Monte Horne\, a seasoned instructor\, will guide you through modern documentation techniques and risk management strategies\, ensuring your practice is compliant and patient-centric. \nLearning Objectives:\n\nMaster advanced documentation procedures and understand their importance in patient care.\nImplement evidence-based care standards in documentation\, validating medical necessity.\nDevelop risk management strategies to safeguard your practice and patients.\nForesee clinical risks and craft robust risk aversion strategies.\n\n\n\n
URL:https://www.chiroeco.com/events/event/05-23-2024-7-9-pm-ct-online-chiropractic-ce-documentation-risk-management-301-webinar/
CATEGORIES:Online Event/Webinar,Previous Years
ORGANIZER;CN="CCEDseminars":MAILTO:drhorne@ccedseminars.com
END:VEVENT
END:VCALENDAR