BEGIN:VCALENDAR
VERSION:2.0
PRODID:-//Chiropractic Economics - ECPv4.6.21//NONSGML v1.0//EN
CALSCALE:GREGORIAN
METHOD:PUBLISH
X-WR-CALNAME:Chiropractic Economics
X-ORIGINAL-URL:https://www.chiroeco.com/events
X-WR-CALDESC:Events for Chiropractic Economics
BEGIN:VEVENT
DTSTART;VALUE=DATE:20240509
DTEND;VALUE=DATE:20240512
DTSTAMP:20260421T135435
CREATED:20240110T045702Z
LAST-MODIFIED:20260209T030353Z
UID:121491-1715212800-1715471999@www.chiroeco.com
SUMMARY:ECU Convention 2024
DESCRIPTION: \n  \nThe European Chiropractors’ Union cordially invites you to participate in our 2024 Convention in Valencia\, Spain from the 9th  to the 11th of May.\nECU2024 will be the key European chiropractic event of the year\, comprising the largest international gathering of the chiropractic profession\, and traditionally attracting over 400 delegates from all over the world (over 25 countries\, 4 continents). \nThere will be unmissable contributions from both chiropractors and other healthcare professionals at this major European meeting of EPIC chiropractors. They will ensure that you and your patients will benefit from wide-ranging collaborations and shared knowledge. \nWe look forward to welcoming you in Valencia in May 2024! \n
URL:https://www.chiroeco.com/events/event/ecu-convention/
LOCATION:Valencia\, Spain
CATEGORIES:In-Person Event,Previous Years
END:VEVENT
END:VCALENDAR