BEGIN:VCALENDAR
VERSION:2.0
PRODID:-//Chiropractic Economics - ECPv4.6.21//NONSGML v1.0//EN
CALSCALE:GREGORIAN
METHOD:PUBLISH
X-WR-CALNAME:Chiropractic Economics
X-ORIGINAL-URL:https://www.chiroeco.com/events
X-WR-CALDESC:Events for Chiropractic Economics
BEGIN:VEVENT
DTSTART;VALUE=DATE:20240419
DTEND;VALUE=DATE:20240422
DTSTAMP:20260421T154532
CREATED:20231001T031132Z
LAST-MODIFIED:20260209T030353Z
UID:121311-1713484800-1713743999@www.chiroeco.com
SUMMARY:CCA National Convention & Tradeshow
DESCRIPTION: \nEvery two years\, chiropractors across the country gather for three jam packed days of professional development and networking opportunities at CCA’s National Convention & Tradeshow. Expand your skills through seminars\, exciting keynote speakers\, and visit our sponsors’ booths to discover the latest resources to help your practice and clinics. To wrap up the weekend\, attendees are invited to a gala with an awards ceremony honoring and recognizing exceptional individuals in our profession. Stay tuned for updates on registration and gala tickets! \n
URL:https://www.chiroeco.com/events/event/national-convention-tradeshow/
LOCATION:Toronto\, Canada
CATEGORIES:In-Person Event,Previous Years
END:VEVENT
BEGIN:VEVENT
DTSTART;VALUE=DATE:20240420
DTEND;VALUE=DATE:20240422
DTSTAMP:20260421T154532
CREATED:20231001T124424Z
LAST-MODIFIED:20260209T030353Z
UID:121367-1713571200-1713743999@www.chiroeco.com
SUMMARY:FAKTR Rehab System in Davenport\, IA
DESCRIPTION:\n\n\nFAKTR Rehab System in Davenport\, IA\n\n\n\n\nJoin us for this 16hr in-person live workshop. Register now.\n\nHotel Blackhawk\nApr 20th 8:30 AM – 21st Apr 3:30 PM CDT\n\n\n\n
URL:https://www.chiroeco.com/events/event/faktr-rehab-system-in-davenport-ia-5/
CATEGORIES:In-Person Event,Previous Years
END:VEVENT
BEGIN:VEVENT
DTSTART;VALUE=DATE:20240420
DTEND;VALUE=DATE:20240422
DTSTAMP:20260421T154532
CREATED:20240313T205442Z
LAST-MODIFIED:20260209T030353Z
UID:121619-1713571200-1713743999@www.chiroeco.com
SUMMARY:Unwinding the Kinetic Chain for Recovery and Performance Enhancement
DESCRIPTION:
URL:https://www.chiroeco.com/events/event/unwinding-the-kinetic-chain-for-recovery-and-performance-enhancement/
CATEGORIES:In-Person Event,Previous Years
END:VEVENT
END:VCALENDAR