BEGIN:VCALENDAR
VERSION:2.0
PRODID:-//Chiropractic Economics - ECPv4.6.21//NONSGML v1.0//EN
CALSCALE:GREGORIAN
METHOD:PUBLISH
X-WR-CALNAME:Chiropractic Economics
X-ORIGINAL-URL:https://www.chiroeco.com/events
X-WR-CALDESC:Events for Chiropractic Economics
BEGIN:VEVENT
DTSTART;VALUE=DATE:20240409
DTEND;VALUE=DATE:20240414
DTSTAMP:20260421T154845
CREATED:20240110T044923Z
LAST-MODIFIED:20260209T030409Z
UID:121487-1712620800-1713052799@www.chiroeco.com
SUMMARY:2024 International Congress on Integrative Medicine & Health
DESCRIPTION: \n  \n  \n
URL:https://www.chiroeco.com/events/event/2024-international-congress-on-integrative-medicine-health/
LOCATION:Cleveland\, OH\, United States
CATEGORIES:In-Person Event,Previous Years
END:VEVENT
BEGIN:VEVENT
DTSTART;VALUE=DATE:20240411
DTEND;VALUE=DATE:20240414
DTSTAMP:20260421T154845
CREATED:20240129T100412Z
LAST-MODIFIED:20260209T030409Z
UID:121503-1712793600-1713052799@www.chiroeco.com
SUMMARY:ICA 98th Annual Convention - Serving Those Who Served
DESCRIPTION:\nYou’re invited to the 98th Annual ICA Convention in Dallas\, Texas!\nApril 11-13\nThis year\, the ICA is focusing on Serving Those Who Served\, centering those members of our community who have historically been underserved and neglected. Come together with us as we hear from veterans and chiropractic experts alike\, sharing practical knowledge and experience on how you can be a better chiropractor for your patients. This will be a weekend of learning and fellowship\, full of lectures\, Q&A panels\, and keynote addresses from inspiring veterans and political figures\, as well as plenty of opportunities to get to know fellow ICA chiropractors. Join us for the chiropractic event of the year – you can’t afford to miss it! \n\n\n\n\n\n\n\n\n
URL:https://www.chiroeco.com/events/event/ica-98th-annual-convention-serving-those-who-served/
LOCATION:13340 Dallas Pkwy\, Dallas\, TX\, 75240\, United States
CATEGORIES:In-Person Event,Previous Years
END:VEVENT
BEGIN:VEVENT
DTSTART;VALUE=DATE:20240412
DTEND;VALUE=DATE:20240415
DTSTAMP:20260421T154845
CREATED:20231001T025418Z
LAST-MODIFIED:20260209T030353Z
UID:121308-1712880000-1713139199@www.chiroeco.com
SUMMARY:NYSCA Spring Convention 2024
DESCRIPTION:2024 Spring Convention\nat Mohegan Sun Casino & Resort Sky Convention Center. \nEarn up to 16 CE credits from 2 full course tracks across 3 days! \nClick here for information. \n
URL:https://www.chiroeco.com/events/event/spring-convention/
LOCATION:1 Mohegan Sun Blvd\, Uncasville\, CT\, 06382\, United States
CATEGORIES:In-Person Event,Previous Years
END:VEVENT
END:VCALENDAR