BEGIN:VCALENDAR
VERSION:2.0
PRODID:-//Chiropractic Economics - ECPv4.6.21//NONSGML v1.0//EN
CALSCALE:GREGORIAN
METHOD:PUBLISH
X-WR-CALNAME:Chiropractic Economics
X-ORIGINAL-URL:https://www.chiroeco.com/events
X-WR-CALDESC:Events for Chiropractic Economics
BEGIN:VEVENT
DTSTART;VALUE=DATE:20240405
DTEND;VALUE=DATE:20240408
DTSTAMP:20260421T154440
CREATED:20231001T024339Z
LAST-MODIFIED:20260209T030409Z
UID:121301-1712275200-1712534399@www.chiroeco.com
SUMMARY:Chiropractic Sports Sciences Symposium
DESCRIPTION:
URL:https://www.chiroeco.com/events/event/chiropractic-sports-sciences-symposium/
LOCATION:1401 SW Naito Parkway\, Portland\, OR\, United States
CATEGORIES:In-Person Event,Previous Years
ATTACH;FMTTYPE=image/png:https://www.chiroeco.com/events/wp-content/uploads/2023/09/ACBSP-logo-2021-login.png
END:VEVENT
BEGIN:VEVENT
DTSTART;VALUE=DATE:20240405
DTEND;VALUE=DATE:20240407
DTSTAMP:20260421T154440
CREATED:20240308T191912Z
LAST-MODIFIED:20260209T030409Z
UID:121606-1712275200-1712447999@www.chiroeco.com
SUMMARY:American Black Chiropractic Association Central Regional Conference 2024
DESCRIPTION:American Black Chiropractic Association Central Regional Conference 2024\nApril 5-6\, 2024 @ Palmer College of Chiropractic in Davenport\, Iowa\n
URL:https://www.chiroeco.com/events/event/american-black-chiropractic-association-central-regional-conference-2024/
LOCATION:Davenport\, United States
CATEGORIES:In-Person Event,Previous Years
ORGANIZER;CN="American%20Black%20Chiropractic%20Association":MAILTO:info@abcachiro.com
END:VEVENT
BEGIN:VEVENT
DTSTART;VALUE=DATE:20240406
DTEND;VALUE=DATE:20240408
DTSTAMP:20260421T154440
CREATED:20240313T205018Z
LAST-MODIFIED:20260209T030409Z
UID:121613-1712361600-1712534399@www.chiroeco.com
SUMMARY:Achieving Biological Stability through Chiropractic Care
DESCRIPTION:https://www.footlevelers.com/seminars/detail?itn=FLSEM20240406-CT \n
URL:https://www.chiroeco.com/events/event/achieving-biological-stability-through-chiropractic-care/
LOCATION:100 Capital Blvd.\, Rocky Hill\, CT\, 06067\, United States
CATEGORIES:In-Person Event,Previous Years
END:VEVENT
END:VCALENDAR