BEGIN:VCALENDAR
VERSION:2.0
PRODID:-//Chiropractic Economics - ECPv4.6.21//NONSGML v1.0//EN
CALSCALE:GREGORIAN
METHOD:PUBLISH
X-WR-CALNAME:Chiropractic Economics
X-ORIGINAL-URL:https://www.chiroeco.com/events
X-WR-CALDESC:Events for Chiropractic Economics
BEGIN:VEVENT
DTSTART;TZID=America/New_York:20230221T190000
DTEND;TZID=America/New_York:20230221T210000
DTSTAMP:20260422T010324
CREATED:20221102T173020Z
LAST-MODIFIED:20221104T070539Z
UID:121125-1677006000-1677013200@www.chiroeco.com
SUMMARY:02/21/2023 7 - 9 PM CT Ethics 301 (Approved for required Texas hours)
DESCRIPTION: \n\nCourse Format:  Live Webinar\nTuition:   $59.00\nCredit Hours:  2\nContributor:  Monte Horne\, DC\nDate & Time : \n\nStart:  February 21\, 2023  7:00 pm\nEnd:  February 21\, 2023  9:00 pm\n\n* Central Time Zone\n\n\n\n\n\nCourse Description: The application of high standards of ethics in your practice and personal life can have profound effects on clinical outcomes and the quality of relationships. This 2-hour live webinar will thoroughly discuss ethics as it relates to your chiropractic practice\, staff interaction and personal relationships. If you have been searching for the “missing link” to practice growth and life enhancement\, here is the key. \nCourse Outline: \n\nIntroduction to ethics and bioethics\nCode of ethics\nBoard rules\nProposed rule changes\nEthics as applied to staffing\nEthics as applied to clinical practice\n\nLearning Objectives: \n\nApply ethics to clinical practice\nExplain ethics relating to office administration\nExamine Board rules relating to chiropractic practice\nAssess proposed rule changes\n\n\n\n\nDr. Monte Horne founded CCEDSeminars with a passion for bringing chiropractors high quality Continuing Education that will elevate the chiropractic profession. Dr. Horne graduated from Southern California University of Health Sciences in 1985. His undergraduate study focused on chemistry and was followed by a research position. After graduating from SCUHS he completed a three-year study program in Chiropractic Orthopedics. Since that time\, he treated patients for 25 years\, served as a chiropractic consultant and manages CCEDSeminars. Dr. Horne is certified in impairment ratings and functional capacity evaluations. He has served as a designated doctor for the Texas Workers Compensation system performing impairment ratings and return to work evaluations. He is published in JMPT and is currently authoring a text “Documentation and Navigating the Guidelines”. Dr. Horne holds faculty status with Texas Chiropractic College’s Post Graduate Studies Continuing Education Division. \n\n\n
URL:https://www.chiroeco.com/events/event/02-21-2023-7-9-pm-ct-ethics-301-approved-for-required-texas-hours/
END:VEVENT
END:VCALENDAR