BEGIN:VCALENDAR
VERSION:2.0
PRODID:-//Chiropractic Economics - ECPv4.6.21//NONSGML v1.0//EN
CALSCALE:GREGORIAN
METHOD:PUBLISH
X-WR-CALNAME:Chiropractic Economics
X-ORIGINAL-URL:https://www.chiroeco.com/events
X-WR-CALDESC:Events for Chiropractic Economics
BEGIN:VEVENT
DTSTART;VALUE=DATE:20240517
DTEND;VALUE=DATE:20240519
DTSTAMP:20260421T141027
CREATED:20240313T205401Z
LAST-MODIFIED:20260209T030352Z
UID:121616-1715904000-1716076799@www.chiroeco.com
SUMMARY:The Changing Brain: Applying the Principles of Neuroplasticity to Pain\, Posture\, Stress and Rehab
DESCRIPTION:Dr. Brian Jensen – CE provided by Northwestern Health Sciences University\nThe Changing Brain: Applying the Principles of Neuroplasticity to Pain\, Posture\, Stress and Rehab\nWhat you’ll learn:\n• Explore the relationship between the adaptive neurological responses when exposed to environmental and subconscious\nstimuli and the effect it has on physical\, emotional\, and physiological responses.\n• A practical clinical approach to the complex challenges we face in this current environment of super stress.\n• How to evaluate and treat the patient relative to: Adaptive Neurological Responses\, Postural Integrity\, and Functional\nMovement.\n• Get hands on experience related to patient assessment\, treatment and rehabilitation which can be easily incorporated into\npractice. \nMarch 1-2 Atlanta\, GA **(GA\, SC\, FL\, AL\, TN\, NC)\nMay 17-18 Kansas City\, MO **(MO\, AR\, OK\, KS\, NE\, IA\, IL\, KY\, TN)\nhttps://www.footlevelers.com/seminars/detail?itn=FLSEM20240420-SC \n
URL:https://www.chiroeco.com/events/event/the-changing-brain-applying-the-principles-of-neuroplasticity-to-pain-posture-stress-and-rehab-13/
LOCATION:Kansas City\, MO\, United States
CATEGORIES:CE Available,In-Person Event,Previous Years
END:VEVENT
END:VCALENDAR