BEGIN:VCALENDAR
VERSION:2.0
PRODID:-//Chiropractic Economics - ECPv4.6.21//NONSGML v1.0//EN
CALSCALE:GREGORIAN
METHOD:PUBLISH
X-WR-CALNAME:Chiropractic Economics
X-ORIGINAL-URL:https://www.chiroeco.com/events
X-WR-CALDESC:Events for Chiropractic Economics
BEGIN:VEVENT
DTSTART;TZID=America/Chicago:20240625T190000
DTEND;TZID=America/Chicago:20240625T210000
DTSTAMP:20260421T121338
CREATED:20240411T111332Z
LAST-MODIFIED:20260209T030320Z
UID:121669-1719342000-1719349200@www.chiroeco.com
SUMMARY:Rehabilitation 320: Leg Length Inequality – Interesting Perspectives
DESCRIPTION: \n\nOnline Course Format:  Live Webinar\nCourse Tuition:   $59.00\nCredit Hours ( CE ):  2\nContributor:  Michael Hall\, DC\, FIACN\nDate & Time : \n\nStart:  June 25\, 2024  7:00 pm\nEnd:  June 25\, 2024  9:00 pm\n\n* Central Time Zone\n\nDive deep into the intricacies of Leg Length Inequality (LLI) and its impact on chiropractic care with our engaging chiropractic ce credits online course designed for chiropractic professionals seeking to earn chiropractic CE credits online. This course\, titled “Rehabilitation and the Leg Length Inequality – Interesting Perspectives\,” offers a fresh look at how LLI influences chiropractic practice and patient outcomes.\n\nCourse Overview:\n\nOverview of Leg Length & Inequality: Begin with a foundational understanding of LLI\, exploring its prevalence and significance in chiropractic care.\nNeurologic Perspectives of Development: Delve into how neurological reflexes play a role in the development and implications of LLI.\nCervical and Vestibular Reflexes: Examine the impact of cervical and vestibular reflexes on head positioning and overall balance.\nUpright or Weightbearing: Discuss the importance of posture in the evaluation and treatment of LLI\, including the debate over weightbearing during radiographic assessments.\n\n\n\n
URL:https://www.chiroeco.com/events/event/rehabilitation-320-leg-length-inequality-interesting-perspectives/
CATEGORIES:Online Event/Webinar,Previous Years
END:VEVENT
END:VCALENDAR