BEGIN:VCALENDAR
VERSION:2.0
PRODID:-//Chiropractic Economics - ECPv4.6.21//NONSGML v1.0//EN
CALSCALE:GREGORIAN
METHOD:PUBLISH
X-WR-CALNAME:Chiropractic Economics
X-ORIGINAL-URL:https://www.chiroeco.com/events
X-WR-CALDESC:Events for Chiropractic Economics
BEGIN:VEVENT
DTSTART;TZID=America/Chicago:20240618T190000
DTEND;TZID=America/Chicago:20240618T210000
DTSTAMP:20260421T121229
CREATED:20240411T111245Z
LAST-MODIFIED:20260209T030320Z
UID:121663-1718737200-1718744400@www.chiroeco.com
SUMMARY:Ethics 301 | (Approved for TBCE required hours) Live Webinar
DESCRIPTION: \n\nOnline Course Format:  Live Webinar\nCourse Tuition:   $59.00\nCredit Hours ( CE ):  2\nContributor:  Monte Horne\, DC\n Date & Time : \n\nStart:  June 18\, 2024  7:00 pm\nEnd:  June 18\, 2024  9:00 pm\n\n* Central Time Zone\n\nJoin us on June 18\, 2024\, from 7:00 PM to 9:00 PM CT for a pivotal online chiropractic CE course titled “Ethics 301 – Enhancing Clinical Outcomes and Relationships\,” approved for Texas Required Hours. This essential training session\, led by esteemed contributor Monte Horne\, DC\, offers 2 credit hours focused on the fundamental role of ethics in both professional and personal aspects of chiropractic practice. \n\nCourse Overview: Ethics 301 with Monte Horne\, DC\nEthics 301 is an indispensable webinar for chiropractors aiming to deepen their ethical understanding and apply these principles to enhance clinical outcomes and patient relationships. Scheduled for June 18\, 2024\, this course delves into the chiropractic code of ethics\, offering insights into how these guidelines can be integrated into daily practice\, from clinical settings to team interactions. \nThis online chiropractic ce course also provides updates on regulatory changes\, offering a forward-looking perspective on the ethical challenges and opportunities within the chiropractic field. \nLearning Objectives:\n\nApply Ethical Principles: Learn to embody ethics in your chiropractic endeavors\, ensuring compassionate and diligent patient care.\nOffice Ethics: Understand the critical role of ethics in office dynamics and teamwork\, promoting a unified and respectful workplace.\nBoard Rules: Keep up-to-date with chiropractic regulations\, ensuring your practice adheres to the highest ethical standards.\nAssess Changes: Evaluate potential regulatory changes\, understanding their implications for your practice and ethical approach.\n\n\n\n
URL:https://www.chiroeco.com/events/event/ethics-301-approved-for-tbce-required-hours-live-webinar/
CATEGORIES:Online Event/Webinar,Previous Years
END:VEVENT
END:VCALENDAR