BEGIN:VCALENDAR
VERSION:2.0
PRODID:-//Chiropractic Economics - ECPv4.6.21//NONSGML v1.0//EN
CALSCALE:GREGORIAN
METHOD:PUBLISH
X-WR-CALNAME:Chiropractic Economics
X-ORIGINAL-URL:https://www.chiroeco.com/events
X-WR-CALDESC:Events for Chiropractic Economics
BEGIN:VEVENT
DTSTART;TZID=America/New_York:20240224T080000
DTEND;TZID=America/New_York:20240224T120000
DTSTAMP:20260422T040541
CREATED:20220225T184324Z
LAST-MODIFIED:20260209T030409Z
UID:120840-1708761600-1708776000@www.chiroeco.com
SUMMARY:Cox® Technic Hands-On Workshop - Ohio
DESCRIPTION:Dr. Kurt Olding leads a Hands-on workshop in the protocol application of Cox® Technic Flexion Distraction and Decompression at his office in Minster\, OH\, a western Ohio suburb (45 minutes to Dayton\, 1 hr 45 mins to Columbus or Toledo).  At least 2 attendees must sign up 2 weeks prior.  No more than 6 attendees will attend to keep the class personalized. This workshop is strictly hands-on practice following the protocol guide for Cox® Technic based on the descriptions and research findings described in the textbook. Low Back Pain. Cervical\, thoracic and lumbar spine protocols will be demonstrated and practiced with each attendee performing the protocols and experiencing the protocols. \n4 hrs \n“Fantastic Experience!” – Prudence Munger DC \n\n\n“Dr. Olding was very informative and I came away with a better appreciation and motivation to perform this technic.” – Luigi Albano \n\n\n“Enjoyed all 4 hours plus.   Very informative material can be used on Monday!” – Phil Gilbert \n260-637-6609 \ninfo@coxtechnic.com \n
URL:https://www.chiroeco.com/events/event/cox-technic-hands-on-workshop-ohio/
LOCATION:12A Eagle Dr\, Minster\, OH\, 45865\, United States
CATEGORIES:In-Person Event,Previous Years
ORGANIZER;CN="Cox%20Seminar%20by%20F%2FD%20Enterprise%20LLC":MAILTO:info@coxtechnic.com
END:VEVENT
END:VCALENDAR