BEGIN:VCALENDAR
VERSION:2.0
PRODID:-//Chiropractic Economics - ECPv4.6.21//NONSGML v1.0//EN
CALSCALE:GREGORIAN
METHOD:PUBLISH
X-WR-CALNAME:Chiropractic Economics
X-ORIGINAL-URL:https://www.chiroeco.com/events
X-WR-CALDESC:Events for Chiropractic Economics
BEGIN:VEVENT
DTSTART;VALUE=DATE:20261101
DTEND;VALUE=DATE:20261105
DTSTAMP:20260421T181858
CREATED:20250301T021219Z
LAST-MODIFIED:20260129T224458Z
UID:122338-1793491200-1793836799@www.chiroeco.com
SUMMARY:American Public Health Association (APHA) 2026 Annual Meeting Expo
DESCRIPTION:Each year\, APHA’s Annual Meeting and Expo convenes about 12\,000 public health professionals and partners from around the world to engage\, collaborate and grow.\nEvent Location: \nSan Antonio\, Texas \nEvent Date:\nNovember 1-4\, 2026 \nThe APHA 2026 Call for Abstracts opens Monday\, January 5\, and closes on Tuesday\, March 31. We look forward to seeing all your submissions and having you be a part of our APHA 2026 programming! \nPlease note that you do not need to be a member to submit an abstract. However\, you must be a member to present if selected. \n  \n
URL:https://www.chiroeco.com/events/event/american-public-health-association-apha-annual-meeting-expo/
CATEGORIES:2026,CE Available,In-Person Event
END:VEVENT
END:VCALENDAR