BEGIN:VCALENDAR
VERSION:2.0
PRODID:-//Chiropractic Economics - ECPv4.6.21//NONSGML v1.0//EN
CALSCALE:GREGORIAN
METHOD:PUBLISH
X-WR-CALNAME:Chiropractic Economics
X-ORIGINAL-URL:https://www.chiroeco.com/events
X-WR-CALDESC:Events for Chiropractic Economics
BEGIN:VEVENT
DTSTART;TZID=America/Chicago:20240521T190000
DTEND;TZID=America/Chicago:20240521T210000
DTSTAMP:20260421T155029
CREATED:20240228T201421Z
LAST-MODIFIED:20260209T030352Z
UID:121558-1716318000-1716325200@www.chiroeco.com
SUMMARY:Ethics 301 - Enhancing Clinical Outcomes and Relationships | Webinar
DESCRIPTION: \n\nOnline Course Format:  Live Webinar\nCourse Tuition:   $59.00\nCredit Hours ( CE ):  2\nContributor:  Monte Horne\, DC\nDate & Time : \n\nStart:  May 21\, 2024  7:00 pm\nEnd:  May 21\, 2024  9:00 pm\n\n* Central Time Zone\n\n\nOur chiropractic webinar on Ethics 301 is crucial for chiropractors seeking to refine their ethical practice. This 2-hour course\, scheduled for 05/21/2024\, is designed to integrate ethical principles into daily chiropractic routines. From clinical settings to team interactions\, this course emphasizes the importance of the chiropractic code of ethics. \nKey Learning Objectives:\n\nApply Ethical Principles: Learn to embed ethical considerations in patient care for a compassionate and diligent approach.\nOffice Ethics: Understand the role of ethics in office management and team collaboration\, creating a harmonious work environment.\nBoard Rules: Keep abreast of the latest chiropractic norms and directives\, ensuring ethical compliance.\nAssess Changes: Evaluate proposed regulatory changes\, understanding their impact on your practice and ethical standards.\n\n\n\n
URL:https://www.chiroeco.com/events/event/05-21-2024-7-9-pm-ct-online-chiropractic-ce-courses-ethics-301-enhancing-clinical-outcomes-and-relationships-webinar/
CATEGORIES:Online Event/Webinar,Previous Years
ORGANIZER;CN="CCEDseminars":MAILTO:drhorne@ccedseminars.com
END:VEVENT
END:VCALENDAR