BEGIN:VCALENDAR
VERSION:2.0
PRODID:-//Chiropractic Economics - ECPv4.6.21//NONSGML v1.0//EN
CALSCALE:GREGORIAN
METHOD:PUBLISH
X-WR-CALNAME:Chiropractic Economics
X-ORIGINAL-URL:https://www.chiroeco.com/events
X-WR-CALDESC:Events for Chiropractic Economics
BEGIN:VEVENT
DTSTART;TZID=America/New_York:20240409T190000
DTEND;TZID=America/New_York:20240409T210000
DTSTAMP:20260421T155913
CREATED:20240228T201420Z
LAST-MODIFIED:20260209T030409Z
UID:121538-1712689200-1712696400@www.chiroeco.com
SUMMARY:04/09/2024 7 - 9 PM CT Case Studies 321: Managing The Headache Patient | Webinar
DESCRIPTION: \n\nOnline Course Format:  Live Webinar\nCourse Tuition:   $59.00\nCredit Hours ( CE ):  2\nContributor:  Howard Benedikt\, DC\, DCBCN\n\nStart:  April 09\, 2024  7:00 pm\nEnd:  April 09\, 2024  9:00 pm\n\n* Central Time Zone\n\n\n\nCourse Description: Gain valuable insights into managing headaches\, a common condition encountered in chiropractic practice. This 2-hour presentation will delve into various headache types\, including tension headaches\, migraines\, and cluster headaches\, providing a thorough understanding essential for effective intervention and management.\n\nCourse Outline:\n\nHour 1: Review the most common types of headaches\, focusing on examination and laboratory evaluation.\nHour 2: Identify headache triggers and explore alternative treatments for headache management.\n\n\n\nLearning Objectives:\n\nUnderstand the clinical presentation of different headache types.\nDevelop strategies for successful headache intervention.\nLearn how to identify triggers and implement alternative treatments.\n\n\n\n\n\n
URL:https://www.chiroeco.com/events/event/04-09-2024-7-9-pm-ct-case-studies-321-managing-the-headache-patient-webinar/
CATEGORIES:Online Event/Webinar,Previous Years
ORGANIZER;CN="CCEDseminars":MAILTO:drhorne@ccedseminars.com
END:VEVENT
END:VCALENDAR