BEGIN:VCALENDAR
VERSION:2.0
PRODID:-//Chiropractic Economics - ECPv4.6.21//NONSGML v1.0//EN
CALSCALE:GREGORIAN
METHOD:PUBLISH
X-WR-CALNAME:Chiropractic Economics
X-ORIGINAL-URL:https://www.chiroeco.com/events
X-WR-CALDESC:Events for Chiropractic Economics
BEGIN:VEVENT
DTSTART;TZID=America/Chicago:20240326T190000
DTEND;TZID=America/Chicago:20240326T210000
DTSTAMP:20260421T174217
CREATED:20240228T201420Z
LAST-MODIFIED:20260209T030409Z
UID:121536-1711479600-1711486800@www.chiroeco.com
SUMMARY:03/26/2024 7 - 9 PM CT Orthopedics 325: Revisiting the Stress Fracture | Webinar
DESCRIPTION: \n\nOnline Course Format:  Live Webinar\nCourse Tuition:   $59.00\nCredit Hours ( CE ):  2\nContributor:  Michael Hall\, DC\, FIACN\nSeats Still Available:  81\n\nStart:  March 26\, 2024  7:00 pm\nEnd:  March 26\, 2024  9:00 pm\n\n* Central Time Zone\n\nMark your calendars for an enlightening chiropractic CEU online course focused on stress fractures. The webinar will delve deep into the enigmatic world of stress fractures\, offering chiropractic professionals valuable insights into accurate diagnosis\, effective management\, and prognosis. Often considered a clinical puzzle in chiropractic practice\, the traditional rest and inactivity method do not adequately address the root causes of stress fractures. This chiropractic CEU online course aims to equip you with the latest methodologies to tackle this perplexing issue.\n\n
URL:https://www.chiroeco.com/events/event/03-26-2024-7-9-pm-ct-orthopedics-325-revisiting-the-stress-fracture-webinar/
CATEGORIES:Online Event/Webinar,Previous Years
ORGANIZER;CN="CCEDseminars":MAILTO:drhorne@ccedseminars.com
END:VEVENT
END:VCALENDAR