BEGIN:VCALENDAR
VERSION:2.0
PRODID:-//Chiropractic Economics - ECPv4.6.21//NONSGML v1.0//EN
CALSCALE:GREGORIAN
METHOD:PUBLISH
X-WR-CALNAME:Chiropractic Economics
X-ORIGINAL-URL:https://www.chiroeco.com/events
X-WR-CALDESC:Events for Chiropractic Economics
BEGIN:VEVENT
DTSTART;TZID=America/New_York:20240312T190000
DTEND;TZID=America/New_York:20240312T210000
DTSTAMP:20260422T021838
CREATED:20240228T201420Z
LAST-MODIFIED:20260209T030409Z
UID:121529-1710270000-1710277200@www.chiroeco.com
SUMMARY:03/12/2024 7 - 9 PM CT Case Studies & Clinical Pearls 320: Soft Tissue Injuries | Webinar
DESCRIPTION: \n\nOnline Course Format:  Live Webinar\nCourse Tuition:   $59.00\nCredit Hours ( CE ):  2\nContributor:  Dennis O’Hara\, DC\, DACBSP\nDate & Time : \n\nStart:  March 12\, 2024  7:00 pm\nEnd:  March 12\, 2024  9:00 pm\n\n* Central Time Zone\n\n\n\n\nInstructor: Dennis O’Hara\, DC\, DACBSP \nUnlock the latest insights in soft tissue management with our specialized Chiropractic CE course. Taught by esteemed Instructor Dennis O’Hara\, DC\, DACBSP\, this course delves into the current literature concerning soft tissue injuries. The focus of this Chiropractic CE course is to provide you with a detailed diagnostic approach to soft tissue injuries and to explore the myriad of treatment options available. \nCourse Outline:\n· Current literature review of injuries relating to soft tissue injuries: Expand your understanding of soft tissue injuries through the lens of the latest research. \n· Assessment criteria for soft tissue injuries: Gain comprehensive insights into the key assessment criteria that are crucial for diagnosing soft tissue injuries effectively. \n· Treatment criteria for soft tissue injuries: Discover the current standards and best practices for treating soft tissue injuries in this Chiropractic CE course. \n· Preventative steps: Learn about various preventative measures to avoid the occurrence of soft tissue injuries. \nCourse Objectives:\n· Cite the mechanisms of injury: Understand and cite the underlying mechanisms that contribute to soft tissue injuries. \n· Outline current assessment criteria: Equip yourself with the ability to outline and utilize the most current assessment techniques for diagnosing soft tissue injuries. \n· Discuss current treatment approaches: Engage in discussions on current treatment approaches\, widening your treatment repertoire. \n· Illustrate treatment measures for the injuries: By the end of this Chiropractic CE course\, you will be able to illustrate the treatment measures that are most effective for various soft tissue injuries. \n\n\n\n\n
URL:https://www.chiroeco.com/events/event/03-12-2024-7-9-pm-ct-case-studies-clinical-pearls-320-soft-tissue-injuries-webinar/
CATEGORIES:Online Event/Webinar,Previous Years
ORGANIZER;CN="CCEDseminars":MAILTO:drhorne@ccedseminars.com
END:VEVENT
END:VCALENDAR